BEGIN:VCALENDAR
VERSION:2.0
PRODID:-//VeteranStartup.org - ECPv6.15.13.1//NONSGML v1.0//EN
CALSCALE:GREGORIAN
METHOD:PUBLISH
X-WR-CALNAME:VeteranStartup.org
X-ORIGINAL-URL:https://veteranstartup.org
X-WR-CALDESC:Events for VeteranStartup.org
REFRESH-INTERVAL;VALUE=DURATION:PT1H
X-Robots-Tag:noindex
X-PUBLISHED-TTL:PT1H
BEGIN:VTIMEZONE
TZID:America/New_York
BEGIN:DAYLIGHT
TZOFFSETFROM:-0500
TZOFFSETTO:-0400
TZNAME:EDT
DTSTART:20240310T070000
END:DAYLIGHT
BEGIN:STANDARD
TZOFFSETFROM:-0400
TZOFFSETTO:-0500
TZNAME:EST
DTSTART:20241103T060000
END:STANDARD
BEGIN:DAYLIGHT
TZOFFSETFROM:-0500
TZOFFSETTO:-0400
TZNAME:EDT
DTSTART:20250309T070000
END:DAYLIGHT
BEGIN:STANDARD
TZOFFSETFROM:-0400
TZOFFSETTO:-0500
TZNAME:EST
DTSTART:20251102T060000
END:STANDARD
BEGIN:DAYLIGHT
TZOFFSETFROM:-0500
TZOFFSETTO:-0400
TZNAME:EDT
DTSTART:20260308T070000
END:DAYLIGHT
BEGIN:STANDARD
TZOFFSETFROM:-0400
TZOFFSETTO:-0500
TZNAME:EST
DTSTART:20261101T060000
END:STANDARD
END:VTIMEZONE
BEGIN:VEVENT
DTSTART;TZID=America/New_York:20251014T160000
DTEND;TZID=America/New_York:20251014T180000
DTSTAMP:20260424T084346
CREATED:20251010T182539Z
LAST-MODIFIED:20251010T182539Z
UID:760-1760457600-1760464800@veteranstartup.org
SUMMARY:Avoiding Predatory Lending in a Shrinking Market
DESCRIPTION:Every day\, small businesses across the country are searching for capital. The problem? They are shopping for it like they would for personal credit cards. Unfortunately\, the same regulations that apply to personal lines of credit are not the same as those for commercial or small business financing. In fact\, buying capital online is often referred to as the “Wild Wild West” of small business financing because anything goes. \nTo Sign up for the Event: \n-Visit veteranstartup.org/verizon\n-Create a free account\n-Search for this webinar under “events”\n-Register!
URL:https://veteranstartup.org/event/avoiding-predatory-lending-in-a-shrinking-market/
LOCATION:VIRTUAL
ATTACH;FMTTYPE=image/png:https://veteranstartup.org/wp-content/uploads/2025/10/Business-Expansion-Loans-How-to-Fund-Your-Growth-39.png
END:VEVENT
END:VCALENDAR