BEGIN:VCALENDAR
VERSION:2.0
PRODID:-//VeteranStartup.org - ECPv6.15.13.1//NONSGML v1.0//EN
CALSCALE:GREGORIAN
METHOD:PUBLISH
X-ORIGINAL-URL:https://veteranstartup.org
X-WR-CALDESC:Events for VeteranStartup.org
REFRESH-INTERVAL;VALUE=DURATION:PT1H
X-Robots-Tag:noindex
X-PUBLISHED-TTL:PT1H
BEGIN:VTIMEZONE
TZID:America/New_York
BEGIN:DAYLIGHT
TZOFFSETFROM:-0500
TZOFFSETTO:-0400
TZNAME:EDT
DTSTART:20240310T070000
END:DAYLIGHT
BEGIN:STANDARD
TZOFFSETFROM:-0400
TZOFFSETTO:-0500
TZNAME:EST
DTSTART:20241103T060000
END:STANDARD
BEGIN:DAYLIGHT
TZOFFSETFROM:-0500
TZOFFSETTO:-0400
TZNAME:EDT
DTSTART:20250309T070000
END:DAYLIGHT
BEGIN:STANDARD
TZOFFSETFROM:-0400
TZOFFSETTO:-0500
TZNAME:EST
DTSTART:20251102T060000
END:STANDARD
BEGIN:DAYLIGHT
TZOFFSETFROM:-0500
TZOFFSETTO:-0400
TZNAME:EDT
DTSTART:20260308T070000
END:DAYLIGHT
BEGIN:STANDARD
TZOFFSETFROM:-0400
TZOFFSETTO:-0500
TZNAME:EST
DTSTART:20261101T060000
END:STANDARD
END:VTIMEZONE
BEGIN:VEVENT
DTSTART;TZID=America/New_York:20251210T130000
DTEND;TZID=America/New_York:20251210T143000
DTSTAMP:20260424T054557
CREATED:20251202T204222Z
LAST-MODIFIED:20251202T204222Z
UID:834-1765371600-1765377000@veteranstartup.org
SUMMARY:AI and Cybersecurity: Protecting Your Business While You Grow
DESCRIPTION:Explore how AI is changing the cybersecurity landscape\, both for attackers and defenders. Walk away with practical steps to safeguard your business\, plus learn how Verizon solutions can help you stay protected as you adopt new AI tools. \n\n\nTo Sign up for the Event: \n-Visit veteranstartup.org/verizon\n-Create a free account\n-Search for this webinar under “events”\n-Register!
URL:https://veteranstartup.org/event/ai-and-cybersecurity-protecting-your-business-while-you-grow/
LOCATION:VIRTUAL
ATTACH;FMTTYPE=image/png:https://veteranstartup.org/wp-content/uploads/2025/12/Business-Expansion-Loans-How-to-Fund-Your-Growth.png
END:VEVENT
END:VCALENDAR