BEGIN:VCALENDAR
VERSION:2.0
PRODID:-//VeteranStartup.org - ECPv6.15.13.1//NONSGML v1.0//EN
CALSCALE:GREGORIAN
METHOD:PUBLISH
X-ORIGINAL-URL:https://veteranstartup.org
X-WR-CALDESC:Events for VeteranStartup.org
REFRESH-INTERVAL;VALUE=DURATION:PT1H
X-Robots-Tag:noindex
X-PUBLISHED-TTL:PT1H
BEGIN:VTIMEZONE
TZID:America/New_York
BEGIN:DAYLIGHT
TZOFFSETFROM:-0500
TZOFFSETTO:-0400
TZNAME:EDT
DTSTART:20240310T070000
END:DAYLIGHT
BEGIN:STANDARD
TZOFFSETFROM:-0400
TZOFFSETTO:-0500
TZNAME:EST
DTSTART:20241103T060000
END:STANDARD
BEGIN:DAYLIGHT
TZOFFSETFROM:-0500
TZOFFSETTO:-0400
TZNAME:EDT
DTSTART:20250309T070000
END:DAYLIGHT
BEGIN:STANDARD
TZOFFSETFROM:-0400
TZOFFSETTO:-0500
TZNAME:EST
DTSTART:20251102T060000
END:STANDARD
BEGIN:DAYLIGHT
TZOFFSETFROM:-0500
TZOFFSETTO:-0400
TZNAME:EDT
DTSTART:20260308T070000
END:DAYLIGHT
BEGIN:STANDARD
TZOFFSETFROM:-0400
TZOFFSETTO:-0500
TZNAME:EST
DTSTART:20261101T060000
END:STANDARD
END:VTIMEZONE
BEGIN:VEVENT
DTSTART;TZID=America/New_York:20251212T120000
DTEND;TZID=America/New_York:20251212T133000
DTSTAMP:20260424T003732
CREATED:20251202T204403Z
LAST-MODIFIED:20251202T204403Z
UID:838-1765540800-1765546200@veteranstartup.org
SUMMARY:The Cash Flow Masterclass
DESCRIPTION:Are you stressed about managing your business’s cash flow? Join us for an in-depth masterclass where we’ll demystify cash flow and provide you with actionable strategies to keep your business running smoothly. We will cover how to speed up payments\, manage expenses\, and use financial reports to make smarter decisions. You’ll also see how QuickBooks can automate these processes\, freeing up your time to focus on growth. \n\n\nTo Sign up for the Event: \n-Visit veteranstartup.org/verizon\n-Create a free account\n-Search for this webinar under “events”\n-Register!
URL:https://veteranstartup.org/event/the-cash-flow-masterclass/
LOCATION:VIRTUAL
ATTACH;FMTTYPE=image/png:https://veteranstartup.org/wp-content/uploads/2025/12/Business-Expansion-Loans-How-to-Fund-Your-Growth-2.png
END:VEVENT
END:VCALENDAR