BEGIN:VCALENDAR
VERSION:2.0
PRODID:-//VeteranStartup.org - ECPv6.15.13.1//NONSGML v1.0//EN
CALSCALE:GREGORIAN
METHOD:PUBLISH
X-WR-CALNAME:VeteranStartup.org
X-ORIGINAL-URL:https://veteranstartup.org
X-WR-CALDESC:Events for VeteranStartup.org
REFRESH-INTERVAL;VALUE=DURATION:PT1H
X-Robots-Tag:noindex
X-PUBLISHED-TTL:PT1H
BEGIN:VTIMEZONE
TZID:America/New_York
BEGIN:DAYLIGHT
TZOFFSETFROM:-0500
TZOFFSETTO:-0400
TZNAME:EDT
DTSTART:20240310T070000
END:DAYLIGHT
BEGIN:STANDARD
TZOFFSETFROM:-0400
TZOFFSETTO:-0500
TZNAME:EST
DTSTART:20241103T060000
END:STANDARD
BEGIN:DAYLIGHT
TZOFFSETFROM:-0500
TZOFFSETTO:-0400
TZNAME:EDT
DTSTART:20250309T070000
END:DAYLIGHT
BEGIN:STANDARD
TZOFFSETFROM:-0400
TZOFFSETTO:-0500
TZNAME:EST
DTSTART:20251102T060000
END:STANDARD
BEGIN:DAYLIGHT
TZOFFSETFROM:-0500
TZOFFSETTO:-0400
TZNAME:EDT
DTSTART:20260308T070000
END:DAYLIGHT
BEGIN:STANDARD
TZOFFSETFROM:-0400
TZOFFSETTO:-0500
TZNAME:EST
DTSTART:20261101T060000
END:STANDARD
END:VTIMEZONE
BEGIN:VEVENT
DTSTART;TZID=America/New_York:20251213T150000
DTEND;TZID=America/New_York:20251213T170000
DTSTAMP:20260424T041504
CREATED:20251202T204543Z
LAST-MODIFIED:20251202T204543Z
UID:839-1765638000-1765645200@veteranstartup.org
SUMMARY:Pitch Deck Building and Practice
DESCRIPTION:This session is designed to help business owners prepare for capital-seeking opportunities. Participants work in two groups: one for building a pitch deck (a slideshow sales presentation required for seeking investment partners or loans) and one for practicing an existing pitch. We will explore what must be included in a 10-minute pitch\, how to present compelling stories and metrics\, and identify what finance professionals seek. Those who practice their pitch will receive 10 minutes to present and receive necessary expert feedback. \nTo Sign up for the Event: \n-Visit veteranstartup.org/verizon\n-Create a free account\n-Search for this webinar under “events”\n-Register!
URL:https://veteranstartup.org/event/pitch-deck-building-and-practice/
LOCATION:VIRTUAL
ATTACH;FMTTYPE=image/png:https://veteranstartup.org/wp-content/uploads/2025/12/Business-Expansion-Loans-How-to-Fund-Your-Growth-1.png
END:VEVENT
END:VCALENDAR