BEGIN:VCALENDAR
VERSION:2.0
PRODID:-//VeteranStartup.org - ECPv6.15.13.1//NONSGML v1.0//EN
CALSCALE:GREGORIAN
METHOD:PUBLISH
X-ORIGINAL-URL:https://veteranstartup.org
X-WR-CALDESC:Events for VeteranStartup.org
REFRESH-INTERVAL;VALUE=DURATION:PT1H
X-Robots-Tag:noindex
X-PUBLISHED-TTL:PT1H
BEGIN:VTIMEZONE
TZID:America/New_York
BEGIN:DAYLIGHT
TZOFFSETFROM:-0500
TZOFFSETTO:-0400
TZNAME:EDT
DTSTART:20250309T070000
END:DAYLIGHT
BEGIN:STANDARD
TZOFFSETFROM:-0400
TZOFFSETTO:-0500
TZNAME:EST
DTSTART:20251102T060000
END:STANDARD
BEGIN:DAYLIGHT
TZOFFSETFROM:-0500
TZOFFSETTO:-0400
TZNAME:EDT
DTSTART:20260308T070000
END:DAYLIGHT
BEGIN:STANDARD
TZOFFSETFROM:-0400
TZOFFSETTO:-0500
TZNAME:EST
DTSTART:20261101T060000
END:STANDARD
BEGIN:DAYLIGHT
TZOFFSETFROM:-0500
TZOFFSETTO:-0400
TZNAME:EDT
DTSTART:20270314T070000
END:DAYLIGHT
BEGIN:STANDARD
TZOFFSETFROM:-0400
TZOFFSETTO:-0500
TZNAME:EST
DTSTART:20271107T060000
END:STANDARD
END:VTIMEZONE
BEGIN:VEVENT
DTSTART;TZID=America/New_York:20260113T130000
DTEND;TZID=America/New_York:20260113T140000
DTSTAMP:20260423T225828
CREATED:20251216T172447Z
LAST-MODIFIED:20251216T172447Z
UID:843-1768309200-1768312800@veteranstartup.org
SUMMARY:Your 2026 Guide: Getting Started with Business Accounting
DESCRIPTION:Starting and growing a business is exciting\, but understanding the financial accounting side can feel overwhelming. This beginner-friendly 1-hour webinar is designed for business owners who want to get started with basic bookkeeping for their business for 2026. \nREGISTER HERE \nWe break down the essentials of personal and business accounting in plain language so you can confidently make decisions\, avoid common mistakes\, and build a strong foundation for your business’s future. \nYou will walk away with: \n\nSmart habits to keep your early-stage business financially healthy\nA clear understanding of revenue\, expenses\, profit\, and cash flow\nHow to separate personal and business finances\, and why it matters\nThe basics of budgeting for your new business\nConfidence to think like a financially savvy business owner from day one\n\nBONUS: Just for registering\, you’ll receive a 6-month free trial of Xero accounting software — a $500+ value! \nWhether you’re launching a side hustle\, starting a small business\, or turning a passion into profit\, this session gives you clarity\, practical tools\, and confidence to move forward.
URL:https://veteranstartup.org/event/your-2026-guide-getting-started-with-business-accounting/
LOCATION:VIRTUAL
END:VEVENT
END:VCALENDAR