BEGIN:VCALENDAR
VERSION:2.0
PRODID:-//VeteranStartup.org - ECPv6.15.13.1//NONSGML v1.0//EN
CALSCALE:GREGORIAN
METHOD:PUBLISH
X-WR-CALNAME:VeteranStartup.org
X-ORIGINAL-URL:https://veteranstartup.org
X-WR-CALDESC:Events for VeteranStartup.org
REFRESH-INTERVAL;VALUE=DURATION:PT1H
X-Robots-Tag:noindex
X-PUBLISHED-TTL:PT1H
BEGIN:VTIMEZONE
TZID:America/New_York
BEGIN:DAYLIGHT
TZOFFSETFROM:-0500
TZOFFSETTO:-0400
TZNAME:EDT
DTSTART:20240310T070000
END:DAYLIGHT
BEGIN:STANDARD
TZOFFSETFROM:-0400
TZOFFSETTO:-0500
TZNAME:EST
DTSTART:20241103T060000
END:STANDARD
BEGIN:DAYLIGHT
TZOFFSETFROM:-0500
TZOFFSETTO:-0400
TZNAME:EDT
DTSTART:20250309T070000
END:DAYLIGHT
BEGIN:STANDARD
TZOFFSETFROM:-0400
TZOFFSETTO:-0500
TZNAME:EST
DTSTART:20251102T060000
END:STANDARD
BEGIN:DAYLIGHT
TZOFFSETFROM:-0500
TZOFFSETTO:-0400
TZNAME:EDT
DTSTART:20260308T070000
END:DAYLIGHT
BEGIN:STANDARD
TZOFFSETFROM:-0400
TZOFFSETTO:-0500
TZNAME:EST
DTSTART:20261101T060000
END:STANDARD
END:VTIMEZONE
BEGIN:VEVENT
DTSTART;TZID=America/New_York:20250903T153000
DTEND;TZID=America/New_York:20250903T163000
DTSTAMP:20260424T053936
CREATED:20250826T225218Z
LAST-MODIFIED:20250826T225218Z
UID:737-1756913400-1756917000@veteranstartup.org
SUMMARY:Startup Funding Secrets: Tools Every Founder Should Know
DESCRIPTION:In this beginner-friendly webinar\, we’ll demystify two of the most common early-stage funding tools—Convertible Notes and SAFEs (Simple Agreements for Future Equity)—and show you how they can help you secure investment faster and with less hassle. \nYou’ll learn how each works\, why investors like them\, the benefits and risks for founders\, and how to decide if they’re the right choice for your next funding round. \nREGISTER HERE \nAbout the Speaker: \nHelen Ogbara Reeves advises founders\, investors and emerging companies through transformational transactions — from business formation and fundraising to governance and exit planning. She works with clients across sectors including healthtech\, consumer\, digital media\, e-commerce and SaaS\, helping them make decisions about ownership\, capital structure and operational challenges. \nWith experience on both sides of the table\, Helen knows how terms will be received by founders and investors. She helps clients anticipate pushback and structure agreements that hold up under pressure. Whether the issue is dilution\, board control or founder vesting\, clients appreciate her ability to anticipate the long-term impact of each decision. As clients mature\, they often rely on her as outside general counsel\, supporting key decisions around operation and governance.
URL:https://veteranstartup.org/event/startup-funding-secrets-tools-every-founder-should-know/
LOCATION:VIRTUAL
ATTACH;FMTTYPE=image/png:https://veteranstartup.org/wp-content/uploads/2025/08/Business-Expansion-Loans-How-to-Fund-Your-Growth-4.png
END:VEVENT
END:VCALENDAR